BEGIN:VCALENDAR
VERSION:2.0
PRODID:SchoolNow
CALSCALE:GREGORIAN
BEGIN:VEVENT
UID:eb3e8a40-4539-11ef-a748-0afff631acdd
DTSTAMP:20240718T191413Z
SUMMARY:No School\, Veterans Day
URL;VALUE=URI:https://www.newmarket.k12.nh.us/calendar/6278711/no-school-st
 aff-pd-day-clone-clone-clone
DTSTART;VALUE=DATE:20241111
DTEND;VALUE=DATE:20241112
END:VEVENT
END:VCALENDAR
