BEGIN:VCALENDAR
VERSION:2.0
PRODID:SchoolNow
CALSCALE:GREGORIAN
BEGIN:VEVENT
UID:79d2df46-4539-11ef-b6ae-0a58a9feac02
DTSTAMP:20240718T191219Z
SUMMARY:No School
URL;VALUE=URI:https://www.newmarket.k12.nh.us/calendar/6278710/no-school-st
 aff-pd-day-clone
DTSTART;VALUE=DATE:20240830
DTEND;VALUE=DATE:20240831
END:VEVENT
END:VCALENDAR
