BEGIN:VCALENDAR
VERSION:2.0
PRODID:SchoolNow
CALSCALE:GREGORIAN
BEGIN:VEVENT
UID:6f6dc89a-4539-11ef-b16c-02e13ea90adb
DTSTAMP:20240718T191318Z
SUMMARY:No School\, Staff PD Day
URL;VALUE=URI:https://www.newmarket.k12.nh.us/calendar/6278709/no-school-st
 aff-pd-day-clone-clone
DTSTART;VALUE=DATE:20241105
DTEND;VALUE=DATE:20241106
END:VEVENT
END:VCALENDAR
