BEGIN:VCALENDAR
VERSION:2.0
PRODID:SchoolNow
CALSCALE:GREGORIAN
BEGIN:VEVENT
UID:5e0b00ae-4539-11ef-9d87-0a58a9feac02
DTSTAMP:20240718T191259Z
SUMMARY:No School\, Columbus Day and Indigenous People's Day
URL;VALUE=URI:https://www.newmarket.k12.nh.us/calendar/6278708/no-school-st
 aff-pd-day-clone-clone
DTSTART;VALUE=DATE:20241014
DTEND;VALUE=DATE:20241015
END:VEVENT
END:VCALENDAR
