BEGIN:VCALENDAR
VERSION:2.0
PRODID:SchoolNow
CALSCALE:GREGORIAN
BEGIN:VEVENT
UID:37f0741c-4539-11ef-af8f-0a58a9feac02
DTSTAMP:20240917T155450Z
SUMMARY:No School\, Staff Professional Developoment Day
URL;VALUE=URI:https://www.newmarket.k12.nh.us/calendar/6278707/no-school-st
 aff-pd-day-clone
DTSTART;VALUE=DATE:20240927
DTEND;VALUE=DATE:20240928
END:VEVENT
END:VCALENDAR
