BEGIN:VCALENDAR
VERSION:2.0
PRODID:SchoolNow
CALSCALE:GREGORIAN
BEGIN:VEVENT
UID:1413e61e-4539-11ef-b865-0a58a9feac02
DTSTAMP:20240718T191230Z
SUMMARY:No School\, Labor Day
URL;VALUE=URI:https://www.newmarket.k12.nh.us/calendar/6278706/no-school-st
 aff-pd-day-clone
DTSTART;VALUE=DATE:20240902
DTEND;VALUE=DATE:20240903
END:VEVENT
END:VCALENDAR
