BEGIN:VCALENDAR
VERSION:2.0
PRODID:SchoolNow
CALSCALE:GREGORIAN
BEGIN:VEVENT
UID:7b88a69c-4537-11ef-a173-0a58a9feac02
DTSTAMP:20240718T185646Z
SUMMARY:Volunteer Fingerprinting Event\, JSHS Library- BY APPOINTMENT ONLY
URL;VALUE=URI:https://www.newmarket.k12.nh.us/calendar/6278703/volunteer-fi
 ngerprinting-event-jshs-library-by-appointment-only
DTSTART:20240816T120000Z
DTEND:20240816T220000Z
END:VEVENT
END:VCALENDAR
