BEGIN:VCALENDAR
VERSION:2.0
PRODID:SchoolNow
CALSCALE:GREGORIAN
BEGIN:VEVENT
UID:20e4d6de-4537-11ef-9347-0e5bca4324e1
DTSTAMP:20240718T185414Z
SUMMARY:School Board Policy Meeting- SAU Office
URL;VALUE=URI:https://www.newmarket.k12.nh.us/calendar/6278702/school-board
 -meeting-jshs-library-clone-clone-clone-clone-clone-clone-clone-clone
DTSTART:20250213T210000Z
DTEND:20250213T221500Z
END:VEVENT
END:VCALENDAR
