BEGIN:VCALENDAR
VERSION:2.0
PRODID:SchoolNow
CALSCALE:GREGORIAN
BEGIN:VEVENT
UID:0af04f7a-4537-11ef-8f7b-02e13ea90adb
DTSTAMP:20240718T185338Z
SUMMARY:School Board Policy Meeting- SAU Office
URL;VALUE=URI:https://www.newmarket.k12.nh.us/calendar/6278700/school-board
 -meeting-jshs-library-clone-clone-clone-clone-clone-clone
DTSTART:20241212T210000Z
DTEND:20241212T221500Z
END:VEVENT
END:VCALENDAR
