BEGIN:VCALENDAR
VERSION:2.0
PRODID:SchoolNow
CALSCALE:GREGORIAN
BEGIN:VEVENT
UID:00e30658-4537-11ef-b1c0-0ea2de43dde3
DTSTAMP:20240718T185321Z
SUMMARY:School Board Policy Meeting- SAU Office
URL;VALUE=URI:https://www.newmarket.k12.nh.us/calendar/6278699/school-board
 -meeting-jshs-library-clone-clone-clone-clone-clone
DTSTART:20241114T210000Z
DTEND:20241114T221500Z
END:VEVENT
END:VCALENDAR
