BEGIN:VCALENDAR
VERSION:2.0
PRODID:SchoolNow
CALSCALE:GREGORIAN
BEGIN:VEVENT
UID:f41702ee-4536-11ef-bfc6-0eec24b05af9
DTSTAMP:20240718T185259Z
SUMMARY:School Board Policy Meeting- SAU Office
URL;VALUE=URI:https://www.newmarket.k12.nh.us/calendar/6278698/school-board
 -meeting-jshs-library-clone-clone-clone-clone
DTSTART:20241024T200000Z
DTEND:20241024T211500Z
END:VEVENT
END:VCALENDAR
