BEGIN:VCALENDAR
VERSION:2.0
PRODID:SchoolNow
CALSCALE:GREGORIAN
BEGIN:VEVENT
UID:ea052524-4536-11ef-aab7-0afff631acdd
DTSTAMP:20240718T185242Z
SUMMARY:School Board Policy Meeting- SAU Office
URL;VALUE=URI:https://www.newmarket.k12.nh.us/calendar/6278697/school-board
 -meeting-jshs-library-clone-clone-clone
DTSTART:20240926T200000Z
DTEND:20240926T211500Z
END:VEVENT
END:VCALENDAR
