BEGIN:VCALENDAR
VERSION:2.0
PRODID:SchoolNow
CALSCALE:GREGORIAN
BEGIN:VEVENT
UID:dbf17226-4536-11ef-9498-0eec24b05af9
DTSTAMP:20240718T185219Z
SUMMARY:School Board Policy Meeting- SAU Office
URL;VALUE=URI:https://www.newmarket.k12.nh.us/calendar/6278696/school-board
 -meeting-jshs-library-clone-clone
DTSTART:20240829T200000Z
DTEND:20240829T211500Z
END:VEVENT
END:VCALENDAR
