BEGIN:VCALENDAR
VERSION:2.0
PRODID:SchoolNow
CALSCALE:GREGORIAN
BEGIN:VEVENT
UID:5702ca6a-4536-11ef-9ba9-0e5bca4324e1
DTSTAMP:20240718T184836Z
SUMMARY:School Board Meeting- JSHS Cafe
URL;VALUE=URI:https://www.newmarket.k12.nh.us/calendar/6278692/school-board
 -meeting-jshs-library-clone-clone-clone-clone-clone-clone-clone-clone-clon
 e-clone-clone-clone-clone-clone-clone-clone
DTSTART:20250508T211500Z
DTEND:20250508T231500Z
END:VEVENT
END:VCALENDAR
