BEGIN:VCALENDAR
VERSION:2.0
PRODID:SchoolNow
CALSCALE:GREGORIAN
BEGIN:VEVENT
UID:4059d6e6-4536-11ef-bbc0-020f6be15a9d
DTSTAMP:20250311T184959Z
SUMMARY:School Board Meeting- JSHS Library
URL;VALUE=URI:https://www.newmarket.k12.nh.us/calendar/6278690/school-board
 -meeting-jshs-library-clone-clone-clone-clone-clone-clone-clone-clone-clon
 e-clone-clone-clone-clone-clone
DTSTART:20250403T211500Z
DTEND:20250403T231500Z
END:VEVENT
END:VCALENDAR
