BEGIN:VCALENDAR
VERSION:2.0
PRODID:SchoolNow
CALSCALE:GREGORIAN
BEGIN:VEVENT
UID:2f335aa4-4536-11ef-a18e-0e5bca4324e1
DTSTAMP:20250311T184936Z
SUMMARY:School Board Meeting- JSHS Library
URL;VALUE=URI:https://www.newmarket.k12.nh.us/calendar/6278689/school-board
 -meeting-jshs-library-clone-clone-clone-clone-clone-clone-clone-clone-clon
 e-clone-clone-clone-clone
DTSTART:20250327T211500Z
DTEND:20250327T231500Z
END:VEVENT
END:VCALENDAR
