BEGIN:VCALENDAR
VERSION:2.0
PRODID:SchoolNow
CALSCALE:GREGORIAN
BEGIN:VEVENT
UID:2533e1f4-4536-11ef-a351-0a58a9feac02
DTSTAMP:20240718T184712Z
SUMMARY:School Board Meeting- JSHS Cafe
URL;VALUE=URI:https://www.newmarket.k12.nh.us/calendar/6278688/school-board
 -meeting-jshs-library-clone-clone-clone-clone-clone-clone-clone-clone-clon
 e-clone-clone-clone
DTSTART:20250306T221500Z
DTEND:20250307T001500Z
END:VEVENT
END:VCALENDAR
