BEGIN:VCALENDAR
VERSION:2.0
PRODID:SchoolNow
CALSCALE:GREGORIAN
BEGIN:VEVENT
UID:0a3900fa-4536-11ef-846b-0ef335e2e327
DTSTAMP:20240718T184627Z
SUMMARY:School Board Meeting- JSHS Cafe
URL;VALUE=URI:https://www.newmarket.k12.nh.us/calendar/6278686/school-board
 -meeting-jshs-library-clone-clone-clone-clone-clone-clone-clone-clone-clon
 e-clone
DTSTART:20250206T221500Z
DTEND:20250207T001500Z
END:VEVENT
END:VCALENDAR
