BEGIN:VCALENDAR
VERSION:2.0
PRODID:SchoolNow
CALSCALE:GREGORIAN
BEGIN:VEVENT
UID:f4f98ba6-4535-11ef-b2ee-0261e29961bf
DTSTAMP:20240718T184551Z
SUMMARY:School Board Meeting- JSHS Cafe
URL;VALUE=URI:https://www.newmarket.k12.nh.us/calendar/6278684/school-board
 -meeting-jshs-library-clone-clone-clone-clone-clone-clone-clone-clone
DTSTART:20250109T221500Z
DTEND:20250110T001500Z
END:VEVENT
END:VCALENDAR
