BEGIN:VCALENDAR
VERSION:2.0
PRODID:SchoolNow
CALSCALE:GREGORIAN
BEGIN:VEVENT
UID:e780bb66-4535-11ef-992b-0a58a9feac02
DTSTAMP:20240718T184529Z
SUMMARY:School Board Meeting- JSHS Cafe
URL;VALUE=URI:https://www.newmarket.k12.nh.us/calendar/6278683/school-board
 -meeting-jshs-library-clone-clone-clone-clone-clone-clone-clone
DTSTART:20241219T221500Z
DTEND:20241220T001500Z
END:VEVENT
END:VCALENDAR
