BEGIN:VCALENDAR
VERSION:2.0
PRODID:SchoolNow
CALSCALE:GREGORIAN
BEGIN:VEVENT
UID:c6a78b04-4535-11ef-8034-020f6be15a9d
DTSTAMP:20240718T184434Z
SUMMARY:School Board Meeting- JSHS Cafe
URL;VALUE=URI:https://www.newmarket.k12.nh.us/calendar/6278681/school-board
 -meeting-jshs-library-clone-clone-clone-clone-clone
DTSTART:20241121T221500Z
DTEND:20241122T001500Z
END:VEVENT
END:VCALENDAR
