BEGIN:VCALENDAR
VERSION:2.0
PRODID:SchoolNow
CALSCALE:GREGORIAN
BEGIN:VEVENT
UID:a642f5a6-4535-11ef-b49e-02310d3a2033
DTSTAMP:20240909T175203Z
SUMMARY:School Board 2025-26 Budget Workshop\, Newmarket Town Hall Auditori
 um
URL;VALUE=URI:https://www.newmarket.k12.nh.us/calendar/6278679/school-board
 -meeting-jshs-library-clone-clone-clone
DTSTART:20241017T200000Z
DTEND:20241018T000000Z
END:VEVENT
END:VCALENDAR
