BEGIN:VCALENDAR
VERSION:2.0
PRODID:SchoolNow
CALSCALE:GREGORIAN
BEGIN:VEVENT
UID:689d8356-4535-11ef-ade7-0afff631acdd
DTSTAMP:20240718T184156Z
SUMMARY:School Board Meeting- JSHS Library
URL;VALUE=URI:https://www.newmarket.k12.nh.us/calendar/6278677/school-board
 -meeting-jshs-library-clone
DTSTART:20240919T211500Z
DTEND:20240919T231500Z
END:VEVENT
END:VCALENDAR
