BEGIN:VCALENDAR
VERSION:2.0
PRODID:SchoolNow
CALSCALE:GREGORIAN
BEGIN:VEVENT
UID:1c5b3934-4535-11ef-b1bc-0ef335e2e327
DTSTAMP:20240718T183948Z
SUMMARY:School Board Meeting- JSHS Library
URL;VALUE=URI:https://www.newmarket.k12.nh.us/calendar/6278676/school-board
 -meeting-jshs-library-clone
DTSTART:20240905T211500Z
DTEND:20240905T231500Z
END:VEVENT
END:VCALENDAR
