BEGIN:VCALENDAR
VERSION:2.0
PRODID:SchoolNow
CALSCALE:GREGORIAN
BEGIN:VEVENT
UID:04d86eb2-4535-11ef-935e-0a58a9feac02
DTSTAMP:20240718T183908Z
SUMMARY:School Board Meeting- JSHS Library
URL;VALUE=URI:https://www.newmarket.k12.nh.us/calendar/6278675/school-board
 -meeting-jshs-library-clone
DTSTART:20240822T211500Z
DTEND:20240822T231500Z
END:VEVENT
END:VCALENDAR
