BEGIN:VCALENDAR
VERSION:2.0
PRODID:SchoolNow
CALSCALE:GREGORIAN
BEGIN:VEVENT
UID:c6bc193a-4534-11ef-9054-0a58a9feac02
DTSTAMP:20240718T183724Z
SUMMARY:School Board Meeting- JSHS Library
URL;VALUE=URI:https://www.newmarket.k12.nh.us/calendar/6278674/school-board
 -meeting-jshs-library
DTSTART:20240801T211500Z
DTEND:20240801T231500Z
END:VEVENT
END:VCALENDAR
