BEGIN:VCALENDAR
VERSION:2.0
PRODID:SchoolNow
CALSCALE:GREGORIAN
BEGIN:VEVENT
UID:b6850044-34aa-11ef-8f70-0a58a9feac02
DTSTAMP:20240628T174409Z
SUMMARY:School Board meeting - NJSHS Library
URL;VALUE=URI:https://www.newmarket.k12.nh.us/calendar/6176145/school-board
 -meeting
DTSTART:20240711T211500Z
DTEND:20240711T231500Z
END:VEVENT
END:VCALENDAR
