BEGIN:VCALENDAR
VERSION:2.0
PRODID:SchoolNow
CALSCALE:GREGORIAN
BEGIN:VEVENT
UID:094b8980-34a9-11ef-8d1b-0a58a9feac02
DTSTAMP:20240717T175026Z
SUMMARY:First day of school\, Grades K-12
URL;VALUE=URI:https://www.newmarket.k12.nh.us/calendar/6176142/first-day-of
 -school-grades-k-12
DTSTART;VALUE=DATE:20240827
DTEND;VALUE=DATE:20240828
END:VEVENT
END:VCALENDAR
